BEGIN:VCALENDAR
VERSION:2.0
PRODID:icalendar-ruby
CALSCALE:GREGORIAN
METHOD:PUBLISH
BEGIN:VEVENT
DTSTAMP:20260424T032854Z
UID:18-3735897@cmcracine.org
DTSTART:20230212T150000Z
DTEND:20230212T161500Z
CLASS:PUBLIC
CREATED:20260423T201753
DESCRIPTION:
LAST-MODIFIED:20260423T201753
LOCATION:
SUMMARY:Sunday School
URL;VALUE=URI:https://www.cmcracine.org/events/sunday-school/2023-02-12
END:VEVENT
END:VCALENDAR
