BEGIN:VCALENDAR
VERSION:2.0
PRODID:icalendar-ruby
CALSCALE:GREGORIAN
METHOD:PUBLISH
BEGIN:VEVENT
DTSTAMP:20260424T015353Z
UID:18-3735896@cmcracine.org
DTSTART:20230205T150000Z
DTEND:20230205T161500Z
CLASS:PUBLIC
CREATED:20260423T201753
DESCRIPTION:
LAST-MODIFIED:20260423T201753
LOCATION:
SUMMARY:Sunday School
URL;VALUE=URI:https://www.cmcracine.org/events/sunday-school/2023-02-05
END:VEVENT
END:VCALENDAR
