BEGIN:VCALENDAR
VERSION:2.0
PRODID:icalendar-ruby
CALSCALE:GREGORIAN
METHOD:PUBLISH
BEGIN:VEVENT
DTSTAMP:20260423T225718Z
UID:18-3733968@cmcracine.org
DTSTART:20230115T150000Z
DTEND:20230115T161500Z
CLASS:PUBLIC
CREATED:20260423T172446
DESCRIPTION:
LAST-MODIFIED:20260423T172446
LOCATION:
SUMMARY:Sunday School
URL;VALUE=URI:https://www.cmcracine.org/events/sunday-school/2023-01-15
END:VEVENT
END:VCALENDAR
