BEGIN:VCALENDAR
VERSION:2.0
PRODID:icalendar-ruby
CALSCALE:GREGORIAN
METHOD:PUBLISH
BEGIN:VEVENT
DTSTAMP:20260423T213624Z
UID:18-3732041@cmcracine.org
DTSTART:20230108T150000Z
DTEND:20230108T161500Z
CLASS:PUBLIC
CREATED:20260423T143033
DESCRIPTION:
LAST-MODIFIED:20260423T143033
LOCATION:
SUMMARY:Sunday School
URL;VALUE=URI:https://www.cmcracine.org/events/sunday-school/2023-01-08
END:VEVENT
END:VCALENDAR
