BEGIN:VCALENDAR
VERSION:2.0
PRODID:icalendar-ruby
CALSCALE:GREGORIAN
METHOD:PUBLISH
BEGIN:VEVENT
DTSTAMP:20260423T181735Z
UID:18-3730113@cmcracine.org
DTSTART:20221211T150000Z
DTEND:20221211T161500Z
CLASS:PUBLIC
CREATED:20260423T113329
DESCRIPTION:
LAST-MODIFIED:20260423T113329
LOCATION:
SUMMARY:Sunday School
URL;VALUE=URI:https://www.cmcracine.org/events/sunday-school/2022-12-11
END:VEVENT
END:VCALENDAR
