BEGIN:VCALENDAR
VERSION:2.0
PRODID:icalendar-ruby
CALSCALE:GREGORIAN
METHOD:PUBLISH
BEGIN:VEVENT
DTSTAMP:20260423T160819Z
UID:18-3728187@cmcracine.org
DTSTART:20221204T150000Z
DTEND:20221204T161500Z
CLASS:PUBLIC
CREATED:20260423T084021
DESCRIPTION:
LAST-MODIFIED:20260423T084021
LOCATION:
SUMMARY:Sunday School
URL;VALUE=URI:https://www.cmcracine.org/events/sunday-school/2022-12-04
END:VEVENT
END:VCALENDAR
