BEGIN:VCALENDAR
VERSION:2.0
PRODID:icalendar-ruby
CALSCALE:GREGORIAN
METHOD:PUBLISH
BEGIN:VEVENT
DTSTAMP:20260423T120022Z
UID:18-3726260@cmcracine.org
DTSTART:20221113T150000Z
DTEND:20221113T161500Z
CLASS:PUBLIC
CREATED:20260423T054502
DESCRIPTION:
LAST-MODIFIED:20260423T054502
LOCATION:
SUMMARY:Sunday School
URL;VALUE=URI:https://www.cmcracine.org/events/sunday-school/2022-11-13
END:VEVENT
END:VCALENDAR
