BEGIN:VCALENDAR
VERSION:2.0
PRODID:icalendar-ruby
CALSCALE:GREGORIAN
METHOD:PUBLISH
BEGIN:VEVENT
DTSTAMP:20260423T033028Z
UID:18-3724330@cmcracine.org
DTSTART:20221009T140000Z
DTEND:20221009T151500Z
CLASS:PUBLIC
CREATED:20260422T201557
DESCRIPTION:
LAST-MODIFIED:20260422T201557
LOCATION:
SUMMARY:Sunday School
URL;VALUE=URI:https://www.cmcracine.org/events/sunday-school/2022-10-09
END:VEVENT
END:VCALENDAR
