BEGIN:VCALENDAR
VERSION:2.0
PRODID:icalendar-ruby
CALSCALE:GREGORIAN
METHOD:PUBLISH
BEGIN:VEVENT
DTSTAMP:20260423T020037Z
UID:18-3724329@cmcracine.org
DTSTART:20221002T140000Z
DTEND:20221002T151500Z
CLASS:PUBLIC
CREATED:20260422T201557
DESCRIPTION:
LAST-MODIFIED:20260422T201557
LOCATION:
SUMMARY:Sunday School
URL;VALUE=URI:https://www.cmcracine.org/events/sunday-school/2022-10-02
END:VEVENT
END:VCALENDAR
