BEGIN:VCALENDAR
VERSION:2.0
PRODID:icalendar-ruby
CALSCALE:GREGORIAN
METHOD:PUBLISH
BEGIN:VEVENT
DTSTAMP:20260422T224233Z
UID:18-3722403@cmcracine.org
DTSTART:20220918T140000Z
DTEND:20220918T151500Z
CLASS:PUBLIC
CREATED:20260422T172403
DESCRIPTION:
LAST-MODIFIED:20260422T172403
LOCATION:
SUMMARY:Sunday School
URL;VALUE=URI:https://www.cmcracine.org/events/sunday-school/2022-09-18
END:VEVENT
END:VCALENDAR
