BEGIN:VCALENDAR
VERSION:2.0
PRODID:icalendar-ruby
CALSCALE:GREGORIAN
METHOD:PUBLISH
BEGIN:VEVENT
DTSTAMP:20260422T150030Z
UID:18-3716626@cmcracine.org
DTSTART:20220814T140000Z
DTEND:20220814T151500Z
CLASS:PUBLIC
CREATED:20260422T083934
DESCRIPTION:
LAST-MODIFIED:20260422T083934
LOCATION:
SUMMARY:Sunday School
URL;VALUE=URI:https://www.cmcracine.org/events/sunday-school/2022-08-14
END:VEVENT
END:VCALENDAR
