BEGIN:VCALENDAR
VERSION:2.0
PRODID:icalendar-ruby
CALSCALE:GREGORIAN
METHOD:PUBLISH
BEGIN:VEVENT
DTSTAMP:20260422T131038Z
UID:18-3714701@cmcracine.org
DTSTART:20220807T140000Z
DTEND:20220807T151500Z
CLASS:PUBLIC
CREATED:20260422T054459
DESCRIPTION:
LAST-MODIFIED:20260422T054459
LOCATION:
SUMMARY:Sunday School
URL;VALUE=URI:https://www.cmcracine.org/events/sunday-school/2022-08-07
END:VEVENT
END:VCALENDAR
