BEGIN:VCALENDAR
VERSION:2.0
PRODID:icalendar-ruby
CALSCALE:GREGORIAN
METHOD:PUBLISH
BEGIN:VEVENT
DTSTAMP:20260422T113903Z
UID:18-3714700@cmcracine.org
DTSTART:20220731T140000Z
DTEND:20220731T151500Z
CLASS:PUBLIC
CREATED:20260422T054459
DESCRIPTION:
LAST-MODIFIED:20260422T054459
LOCATION:
SUMMARY:Sunday School
URL;VALUE=URI:https://www.cmcracine.org/events/sunday-school/2022-07-31
END:VEVENT
END:VCALENDAR
