BEGIN:VCALENDAR
VERSION:2.0
PRODID:icalendar-ruby
CALSCALE:GREGORIAN
METHOD:PUBLISH
BEGIN:VEVENT
DTSTAMP:20260422T100031Z
UID:18-3712775@cmcracine.org
DTSTART:20220724T140000Z
DTEND:20220724T151500Z
CLASS:PUBLIC
CREATED:20260421T184726
DESCRIPTION:
LAST-MODIFIED:20260421T184726
LOCATION:
SUMMARY:Sunday School
URL;VALUE=URI:https://www.cmcracine.org/events/sunday-school/2022-07-24
END:VEVENT
END:VCALENDAR
