BEGIN:VCALENDAR
VERSION:2.0
PRODID:icalendar-ruby
CALSCALE:GREGORIAN
METHOD:PUBLISH
BEGIN:VEVENT
DTSTAMP:20260421T185312Z
UID:18-3708918@cmcracine.org
DTSTART:20220522T140000Z
DTEND:20220522T151500Z
CLASS:PUBLIC
CREATED:20260421T133214
DESCRIPTION:
LAST-MODIFIED:20260421T133214
LOCATION:
SUMMARY:Sunday School
URL;VALUE=URI:https://www.cmcracine.org/events/sunday-school/2022-05-22
END:VEVENT
END:VCALENDAR
