BEGIN:VCALENDAR
VERSION:2.0
PRODID:icalendar-ruby
CALSCALE:GREGORIAN
METHOD:PUBLISH
BEGIN:VEVENT
DTSTAMP:20260421T172414Z
UID:18-3706993@cmcracine.org
DTSTART:20220515T140000Z
DTEND:20220515T151500Z
CLASS:PUBLIC
CREATED:20260421T105317
DESCRIPTION:
LAST-MODIFIED:20260421T105317
LOCATION:
SUMMARY:Sunday School
URL;VALUE=URI:https://www.cmcracine.org/events/sunday-school/2022-05-15
END:VEVENT
END:VCALENDAR
