BEGIN:VCALENDAR
VERSION:2.0
PRODID:icalendar-ruby
CALSCALE:GREGORIAN
METHOD:PUBLISH
BEGIN:VEVENT
DTSTAMP:20260421T104503Z
UID:18-3703141@cmcracine.org
DTSTART:20220410T140000Z
DTEND:20220410T151500Z
CLASS:PUBLIC
CREATED:20260421T054026
DESCRIPTION:
LAST-MODIFIED:20260421T054026
LOCATION:
SUMMARY:Sunday School
URL;VALUE=URI:https://www.cmcracine.org/events/sunday-school/2022-04-10
END:VEVENT
END:VCALENDAR
