BEGIN:VCALENDAR
VERSION:2.0
PRODID:icalendar-ruby
CALSCALE:GREGORIAN
METHOD:PUBLISH
BEGIN:VEVENT
DTSTAMP:20260421T061431Z
UID:18-3701214@cmcracine.org
DTSTART:20220313T140000Z
DTEND:20220313T151500Z
CLASS:PUBLIC
CREATED:20260420T183433
DESCRIPTION:
LAST-MODIFIED:20260420T183433
LOCATION:
SUMMARY:Sunday School
URL;VALUE=URI:https://www.cmcracine.org/events/sunday-school/2022-03-13
END:VEVENT
END:VCALENDAR
