BEGIN:VCALENDAR
VERSION:2.0
PRODID:icalendar-ruby
CALSCALE:GREGORIAN
METHOD:PUBLISH
BEGIN:VEVENT
DTSTAMP:20260424T080748Z
UID:19-3736346@cmcracine.org
DTSTART:20250810T153000Z
DTEND:20250810T170000Z
CLASS:PUBLIC
CREATED:20260423T201754
DESCRIPTION:
LAST-MODIFIED:20260423T201754
LOCATION:
SUMMARY:Morning Service
URL;VALUE=URI:https://www.cmcracine.org/events/morning-service/2025-08-10
END:VEVENT
END:VCALENDAR
